BEGIN:VCALENDAR
VERSION:2.0
PRODID:-//South West Area of Hampshire Freemasons - ECPv6.15.17.1//NONSGML v1.0//EN
CALSCALE:GREGORIAN
METHOD:PUBLISH
X-ORIGINAL-URL:https://hantsmasonsw.org.uk
X-WR-CALDESC:Events for South West Area of Hampshire Freemasons
REFRESH-INTERVAL;VALUE=DURATION:PT1H
X-Robots-Tag:noindex
X-PUBLISHED-TTL:PT1H
BEGIN:VTIMEZONE
TZID:Europe/London
BEGIN:DAYLIGHT
TZOFFSETFROM:+0000
TZOFFSETTO:+0100
TZNAME:BST
DTSTART:20240331T010000
END:DAYLIGHT
BEGIN:STANDARD
TZOFFSETFROM:+0100
TZOFFSETTO:+0000
TZNAME:GMT
DTSTART:20241027T010000
END:STANDARD
BEGIN:DAYLIGHT
TZOFFSETFROM:+0000
TZOFFSETTO:+0100
TZNAME:BST
DTSTART:20250330T010000
END:DAYLIGHT
BEGIN:STANDARD
TZOFFSETFROM:+0100
TZOFFSETTO:+0000
TZNAME:GMT
DTSTART:20251026T010000
END:STANDARD
BEGIN:DAYLIGHT
TZOFFSETFROM:+0000
TZOFFSETTO:+0100
TZNAME:BST
DTSTART:20260329T010000
END:DAYLIGHT
BEGIN:STANDARD
TZOFFSETFROM:+0100
TZOFFSETTO:+0000
TZNAME:GMT
DTSTART:20261025T010000
END:STANDARD
END:VTIMEZONE
BEGIN:VEVENT
DTSTART;VALUE=DATE:20250702
DTEND;VALUE=DATE:20250703
DTSTAMP:20260421T142129
CREATED:20250309T165202Z
LAST-MODIFIED:20250309T165202Z
UID:110-1751414400-1751500799@hantsmasonsw.org.uk
SUMMARY:Hants & IOW Provincial Annual Grand Meeting - Freemasons' Hall\, London
DESCRIPTION:
URL:https://hantsmasonsw.org.uk/event/hants-iow-provincial-annual-grand-meeting-freemasons-hall-london/
LOCATION:Hampshire
END:VEVENT
BEGIN:VEVENT
DTSTART;VALUE=DATE:20250712
DTEND;VALUE=DATE:20250713
DTSTAMP:20260421T142129
CREATED:20250309T165230Z
LAST-MODIFIED:20250309T165230Z
UID:112-1752278400-1752364799@hantsmasonsw.org.uk
SUMMARY:SWA Family Fun Day & BBQ - STABLE FAMILY HOME TRUST - RINGWOOD
DESCRIPTION:
URL:https://hantsmasonsw.org.uk/event/swa-family-fun-day-bbq-stable-family-home-trust-ringwood/
LOCATION:Hampshire
END:VEVENT
END:VCALENDAR