BEGIN:VCALENDAR
VERSION:2.0
PRODID:-//South West Area of Hampshire Freemasons - ECPv6.15.17.1//NONSGML v1.0//EN
CALSCALE:GREGORIAN
METHOD:PUBLISH
X-WR-CALNAME:South West Area of Hampshire Freemasons
X-ORIGINAL-URL:https://hantsmasonsw.org.uk
X-WR-CALDESC:Events for South West Area of Hampshire Freemasons
REFRESH-INTERVAL;VALUE=DURATION:PT1H
X-Robots-Tag:noindex
X-PUBLISHED-TTL:PT1H
BEGIN:VTIMEZONE
TZID:Europe/London
BEGIN:DAYLIGHT
TZOFFSETFROM:+0000
TZOFFSETTO:+0100
TZNAME:BST
DTSTART:20250330T010000
END:DAYLIGHT
BEGIN:STANDARD
TZOFFSETFROM:+0100
TZOFFSETTO:+0000
TZNAME:GMT
DTSTART:20251026T010000
END:STANDARD
BEGIN:DAYLIGHT
TZOFFSETFROM:+0000
TZOFFSETTO:+0100
TZNAME:BST
DTSTART:20260329T010000
END:DAYLIGHT
BEGIN:STANDARD
TZOFFSETFROM:+0100
TZOFFSETTO:+0000
TZNAME:GMT
DTSTART:20261025T010000
END:STANDARD
BEGIN:DAYLIGHT
TZOFFSETFROM:+0000
TZOFFSETTO:+0100
TZNAME:BST
DTSTART:20270328T010000
END:DAYLIGHT
BEGIN:STANDARD
TZOFFSETFROM:+0100
TZOFFSETTO:+0000
TZNAME:GMT
DTSTART:20271031T010000
END:STANDARD
END:VTIMEZONE
BEGIN:VEVENT
DTSTART;VALUE=DATE:20260718
DTEND;VALUE=DATE:20260719
DTSTAMP:20260421T233803
CREATED:20260223T135842Z
LAST-MODIFIED:20260223T135842Z
UID:235-1784332800-1784419199@hantsmasonsw.org.uk
SUMMARY:Masonic Clay Shoot - Purbeck Shooting School
DESCRIPTION:Purbeck Shooting School \nDetails from masonicmikethegun@gmail.com
URL:https://hantsmasonsw.org.uk/event/masonic-clay-shoot-purbeck-shooting-school/
END:VEVENT
BEGIN:VEVENT
DTSTART;VALUE=DATE:20260815
DTEND;VALUE=DATE:20260816
DTSTAMP:20260421T233803
CREATED:20260323T111022Z
LAST-MODIFIED:20260323T111053Z
UID:252-1786752000-1786838399@hantsmasonsw.org.uk
SUMMARY:August Classic Car Show at Brockenhurst Masonic Centre
DESCRIPTION:August Classic Car Show at Brockenhurst Masonic Centre\nSaturday 15th August
URL:https://hantsmasonsw.org.uk/event/august-classic-car-show-at-brockenhurst-masonic-centre/
LOCATION:Brockenhurst Masonic Centre\, 9 Grigg Lane\, Brockenhurst\, Hampshire\, SO42 7PG\, United Kingdom
END:VEVENT
END:VCALENDAR